BEGIN:VCALENDAR
VERSION:2.0
PRODID:-//Glenola Baptist Church - ECPv6.15.18//NONSGML v1.0//EN
CALSCALE:GREGORIAN
METHOD:PUBLISH
X-WR-CALNAME:Glenola Baptist Church
X-ORIGINAL-URL:https://www.glenolabaptist.org
X-WR-CALDESC:Events for Glenola Baptist Church
REFRESH-INTERVAL;VALUE=DURATION:PT1H
X-Robots-Tag:noindex
X-PUBLISHED-TTL:PT1H
BEGIN:VTIMEZONE
TZID:America/New_York
BEGIN:DAYLIGHT
TZOFFSETFROM:-0500
TZOFFSETTO:-0400
TZNAME:EDT
DTSTART:20250309T070000
END:DAYLIGHT
BEGIN:STANDARD
TZOFFSETFROM:-0400
TZOFFSETTO:-0500
TZNAME:EST
DTSTART:20251102T060000
END:STANDARD
BEGIN:DAYLIGHT
TZOFFSETFROM:-0500
TZOFFSETTO:-0400
TZNAME:EDT
DTSTART:20260308T070000
END:DAYLIGHT
BEGIN:STANDARD
TZOFFSETFROM:-0400
TZOFFSETTO:-0500
TZNAME:EST
DTSTART:20261101T060000
END:STANDARD
BEGIN:DAYLIGHT
TZOFFSETFROM:-0500
TZOFFSETTO:-0400
TZNAME:EDT
DTSTART:20270314T070000
END:DAYLIGHT
BEGIN:STANDARD
TZOFFSETFROM:-0400
TZOFFSETTO:-0500
TZNAME:EST
DTSTART:20271107T060000
END:STANDARD
END:VTIMEZONE
BEGIN:VEVENT
DTSTART;TZID=America/New_York:20260422T110000
DTEND;TZID=America/New_York:20260422T130000
DTSTAMP:20260421T071020
CREATED:20260306T114331Z
LAST-MODIFIED:20260306T114331Z
UID:880-1776855600-1776862800@www.glenolabaptist.org
SUMMARY:Community Outreach Meal
DESCRIPTION:Join us as we feed the needy and share the gospel. Donations\, desserts\, and helping hands are always appreciated. Please pray for this ministry.
URL:https://www.glenolabaptist.org/event/community-outreach-meal-15
LOCATION:Glenola Baptist Church\, 8330 US HWY 311 S.\, Archdale\, NC\, 27263\, United States
ORGANIZER;CN="Bonnie Hodges":MAILTO:bonniehodges.22@gmail.com
END:VEVENT
BEGIN:VEVENT
DTSTART;TZID=America/New_York:20260422T180000
DTEND;TZID=America/New_York:20260422T200000
DTSTAMP:20260421T071020
CREATED:20260306T113030Z
LAST-MODIFIED:20260306T113030Z
UID:872-1776880800-1776888000@www.glenolabaptist.org
SUMMARY:Awana Year-End Program
DESCRIPTION:We would like to invite all members and their families to the annual program to conclude the 2026 Awana program. Dinner will be provided at 6 PM with the program to follow at 7.
URL:https://www.glenolabaptist.org/event/awana-year-end-program
LOCATION:Glenola Baptist Church\, 8330 US HWY 311 S.\, Archdale\, NC\, 27263\, United States
ORGANIZER;CN="Sarah Bromund":MAILTO:skipper.sarah@yahoo.com
END:VEVENT
BEGIN:VEVENT
DTSTART;TZID=America/New_York:20260423T183000
DTEND;TZID=America/New_York:20260423T203000
DTSTAMP:20260421T071020
CREATED:20260306T120113Z
LAST-MODIFIED:20260306T120113Z
UID:890-1776969000-1776976200@www.glenolabaptist.org
SUMMARY:Battles To Victory
DESCRIPTION:Battles To Victory (B2V) exists to help people find freedom and healing from their hurts\, hang-ups and habits through a relationship with Jesus Christ. Meetings are held on Thursdays\, refreshments at 6:30 p.m. with meeting beginning at 7 p.m. Everyone is welcome!
URL:https://www.glenolabaptist.org/event/battles-to-victory-15
LOCATION:Glenola Baptist Church\, 8330 US HWY 311 S.\, Archdale\, NC\, 27263\, United States
ORGANIZER;CN="Deana Norton":MAILTO:dnorton@glenolabaptist.org
END:VEVENT
BEGIN:VEVENT
DTSTART;TZID=America/New_York:20260429T110000
DTEND;TZID=America/New_York:20260429T130000
DTSTAMP:20260421T071020
CREATED:20260306T114536Z
LAST-MODIFIED:20260306T114536Z
UID:882-1777460400-1777467600@www.glenolabaptist.org
SUMMARY:Community Outreach Meal
DESCRIPTION:Join us as we feed the needy and share the gospel. Donations\, desserts\, and helping hands are always appreciated. Please pray for this ministry.
URL:https://www.glenolabaptist.org/event/community-outreach-meal-16
LOCATION:Glenola Baptist Church\, 8330 US HWY 311 S.\, Archdale\, NC\, 27263\, United States
ORGANIZER;CN="Bonnie Hodges":MAILTO:bonniehodges.22@gmail.com
END:VEVENT
BEGIN:VEVENT
DTSTART;TZID=America/New_York:20260430T183000
DTEND;TZID=America/New_York:20260430T203000
DTSTAMP:20260421T071020
CREATED:20260306T120351Z
LAST-MODIFIED:20260306T120351Z
UID:892-1777573800-1777581000@www.glenolabaptist.org
SUMMARY:Battles To Victory
DESCRIPTION:Battles To Victory (B2V) exists to help people find freedom and healing from their hurts\, hang-ups and habits through a relationship with Jesus Christ. Meetings are held on Thursdays\, refreshments at 6:30 p.m. with meeting beginning at 7 p.m. Everyone is welcome!
URL:https://www.glenolabaptist.org/event/battles-to-victory-16
LOCATION:Glenola Baptist Church\, 8330 US HWY 311 S.\, Archdale\, NC\, 27263\, United States
ORGANIZER;CN="Deana Norton":MAILTO:dnorton@glenolabaptist.org
END:VEVENT
END:VCALENDAR